BEGIN:VCALENDAR
VERSION:2.0
PRODID:-//wp-events-plugin.com//7.2.3.1//EN
TZID:America/Toronto
X-WR-TIMEZONE:America/Toronto
BEGIN:VEVENT
UID:64@iesmontreal.ca
DTSTART:20181115T120000Z
DTEND:20181115T130000Z
DTSTAMP:20180318T034542Z
URL:https://iesmontreal.ca/events/a-new-measure-of-color-discrimination-ie
 sna-webinar/
SUMMARY:A New Measure of Color Discrimination - IESNA webinar
DESCRIPTION:https://www.ies.org/education/electronic-resources/webinars/\n\
 n&nbsp\;
END:VEVENT
END:VCALENDAR