BEGIN:VCALENDAR
VERSION:2.0
PRODID:-//wp-events-plugin.com//7.2.3.1//EN
TZID:America/Toronto
X-WR-TIMEZONE:America/Toronto
BEGIN:VEVENT
UID:143@iesmontreal.ca
DTSTART:20260121T180000Z
DTEND:20260429T210000Z
DTSTAMP:20251127T194455Z
URL:https://iesmontreal.ca/events/cours-declairage-dies-montreal-session-h
 iver-2026/
SUMMARY:Cours d'éclairage d'IES-Montréal - Session hiver 2026
DESCRIPTION:Formation en éclairage IES Montréal				\n		Sous la responsabi
 lité de M. Peer Eric Moldvar\, IES Montréal est heureux de vous annoncer
  l’ouverture des inscriptions pour sa formation en éclairage\, désorma
 is proposée sous une nouvelle formule adaptée aux exigences actuelles du
  marché de l’éclairage.Cette formation\, répartie sur 15 semaines\, e
 st dispensée par une équipe composée de chargés de cours qualifiés et
  spécialisés dans différents domaines de l’éclairage. Elle vous perm
 ettra d’acquérir les connaissances essentielles nécessaires à la réa
 lisation d’un plan lumière professionnel.Au cours de cette formation\, 
 vous serez initié aux principes fondamentaux de la lumière : ses propri
 étés\, ses méthodes de mesure\, ainsi que les unités utilisées. Vous 
 apprendrez à calculer les niveaux d’éclairement et à appliquer les no
 rmes\, pratiques et recommandations en vigueur dans le domaine.Cette déma
 rche progressive vise à vous fournir les compétences techniques et théo
 riques indispensables pour évoluer avec confiance dans le secteur de l’
 éclairage.Nous vous invitons à vous inscrire dès maintenant afin de ré
 server votre place et de bénéficier de cette opportunité unique de form
 ation.Lire la suite ici		\n					\n									Inscription en ligne\n					
CATEGORIES:Formation
END:VEVENT
END:VCALENDAR