BEGIN:VCALENDAR
VERSION:2.0
PRODID:-//wp-events-plugin.com//7.2.3.1//EN
TZID:America/Toronto
X-WR-TIMEZONE:America/Toronto
BEGIN:VEVENT
UID:83@iesmontreal.ca
DTSTART;TZID=America/New_York:20200129T180000
DTEND;TZID=America/New_York:20200129T220000
DTSTAMP:20200110T025132Z
URL:https://iesmontreal.ca/events/evenement-lumiere-2020/
SUMMARY:Événement Lumière 2020
DESCRIPTION:
CATEGORIES:Gala
LOCATION:Hotel Intercontinental Montréal\, 360 Rue Saint-Antoine O\, Montr
 eal\, Quebec\, H2Y 3X4\, Canada
X-APPLE-STRUCTURED-LOCATION;VALUE=URI;X-ADDRESS=360 Rue Saint-Antoine O\, M
 ontreal\, Quebec\, H2Y 3X4\, Canada;X-APPLE-RADIUS=100;X-TITLE=Hotel Inter
 continental Montréal:geo:0,0
END:VEVENT
BEGIN:VTIMEZONE
TZID:America/New_York
X-LIC-LOCATION:America/New_York
BEGIN:STANDARD
DTSTART:20191103T010000
TZOFFSETFROM:-0400
TZOFFSETTO:-0500
TZNAME:EST
END:STANDARD
END:VTIMEZONE
END:VCALENDAR