BEGIN:VCALENDAR
VERSION:2.0
PRODID:-//wp-events-plugin.com//7.2.3.1//EN
TZID:America/Toronto
X-WR-TIMEZONE:America/Toronto
BEGIN:VEVENT
UID:77@iesmontreal.ca
DTSTART:20190402T120000Z
DTEND:20190402T130000Z
DTSTAMP:20190225T031651Z
URL:https://iesmontreal.ca/events/ies-educational-webinar-2/
SUMMARY:IES Educational webinar
DESCRIPTION:Metrics in Motion: Lumen Equivalency - Michael Myer\, Pacific 
 Northwest National Laboratory\n\nInscription - cliquez ici!
END:VEVENT
END:VCALENDAR