BEGIN:VCALENDAR
VERSION:2.0
PRODID:-//wp-events-plugin.com//7.2.3.1//EN
TZID:America/Toronto
X-WR-TIMEZONE:America/Toronto
BEGIN:VEVENT
UID:78@iesmontreal.ca
DTSTART:20190502T120000Z
DTEND:20190502T130000Z
DTSTAMP:20190225T031938Z
URL:https://iesmontreal.ca/events/ies-educational-webinar-3/
SUMMARY:IES Educational webinar
DESCRIPTION:Metrics in Motion: Connected Lighting - Michael Poplawski\, Pa
 cific Northwest National Laboratory\n\n&nbsp\;\n\nInscription - cliquez ic
 i!
END:VEVENT
END:VCALENDAR