BEGIN:VCALENDAR
VERSION:2.0
PRODID:-//wp-events-plugin.com//7.2.3.1//EN
TZID:America/Toronto
X-WR-TIMEZONE:America/Toronto
BEGIN:VEVENT
UID:76@iesmontreal.ca
DTSTART:20190314T120000Z
DTEND:20190314T130000Z
DTSTAMP:20190225T031739Z
URL:https://iesmontreal.ca/events/ies-educational-webinar-a-machine-for-li
 ght-the-building-as-luminaire/
SUMMARY:IES Educational webinar
DESCRIPTION:A Machine for Light – The Building as Luminaire - Clifton St
 anley Lemon\, MIES\, Jeremy J. Steinmeier\, AIA\, LC\, LEED AP\, IES\, Se
 nior Architect and Lighting Designer\, AECOM\n\nInscription - cliquez ici!
END:VEVENT
END:VCALENDAR