BEGIN:VCALENDAR
VERSION:2.0
PRODID:-//wp-events-plugin.com//7.2.3.1//EN
TZID:America/Toronto
X-WR-TIMEZONE:America/Toronto
BEGIN:VEVENT
UID:75@iesmontreal.ca
DTSTART:20190307T120000Z
DTEND:20190307T130000Z
DTSTAMP:20190225T031515Z
URL:https://iesmontreal.ca/events/ies-educational-webinar/
SUMMARY:IES Educational webinar
DESCRIPTION:Metrics in Motion: Flicker &amp\; Glare - Naomi Miller\, Pacif
 ic Northwest National Laboratory\n\nInscriptions - cliquez ici!
END:VEVENT
END:VCALENDAR