BEGIN:VCALENDAR
VERSION:2.0
PRODID:-//wp-events-plugin.com//7.2.3.1//EN
TZID:America/Toronto
X-WR-TIMEZONE:America/Toronto
BEGIN:VEVENT
UID:74@iesmontreal.ca
DTSTART;VALUE=DATE:20190519
DTEND;VALUE=DATE:20190524
DTSTAMP:20190225T024136Z
URL:https://iesmontreal.ca/events/lightfair-international-2019/
SUMMARY:LIGHTFAIR International 2019
DESCRIPTION:The connected future is yours to discover here: LIGHTFAIR® Int
 ernational 2019. The lighting and design industry’s source for all that
  is new and next. Where brilliant solutions in lighting\, connectivity\, d
 esign and integration will unfold in a synergy of light in life. In the 
 unsurpassed resources of the world’s largest annual architectural and co
 mmercial lighting event.\n\nhttps://www.lightfair.com/
LOCATION:Pennsylvania Convention Center\, 1101 Arch St.\, Philadelphia\, PA
 \, 19107 \, États-Unis
X-APPLE-STRUCTURED-LOCATION;VALUE=URI;X-ADDRESS=1101 Arch St.\, Philadelphi
 a\, PA\, 19107 \, États-Unis;X-APPLE-RADIUS=100;X-TITLE=Pennsylvania Conv
 ention Center:geo:0,0
END:VEVENT
END:VCALENDAR