BEGIN:VCALENDAR
VERSION:2.0
PRODID:-//wp-events-plugin.com//7.2.3.1//EN
TZID:America/Toronto
X-WR-TIMEZONE:America/Toronto
BEGIN:VEVENT
UID:62@iesmontreal.ca
DTSTART:20180920T120000Z
DTEND:20180920T130000Z
DTSTAMP:20180318T040046Z
URL:https://iesmontreal.ca/events/lighting-for-horticulture-iesna-webinar/
SUMMARY:Lighting for Horticulture - IESNA webinar
DESCRIPTION:https://www.ies.org/education/electronic-resources/webinars/\n\
 n&nbsp\;
END:VEVENT
END:VCALENDAR