BEGIN:VCALENDAR
VERSION:2.0
PRODID:-//wp-events-plugin.com//7.2.3.1//EN
TZID:America/Toronto
X-WR-TIMEZONE:America/Toronto
BEGIN:VEVENT
UID:60@iesmontreal.ca
DTSTART:20180712T120000Z
DTEND:20180712T130000Z
DTSTAMP:20180318T035859Z
URL:https://iesmontreal.ca/events/lighting-for-residential-rp-11-18-iesna-
 webinar/
SUMMARY:Lighting for Residential (RP-11-18) - IESNA webinar
DESCRIPTION:https://www.ies.org/education/electronic-resources/webinars/\n\
 n&nbsp\;
END:VEVENT
END:VCALENDAR