BEGIN:VCALENDAR
VERSION:2.0
PRODID:-//wp-events-plugin.com//7.2.3.1//EN
TZID:America/Toronto
X-WR-TIMEZONE:America/Toronto
BEGIN:VEVENT
UID:81@iesmontreal.ca
DTSTART:20190416T000000Z
DTEND:20190416T000000Z
DTSTAMP:20190317T032708Z
URL:https://iesmontreal.ca/events/lunch-eclair-avril-2019-le-nouveau-handb
 ook-de-leclairage-exterieur-rp-08-18/
SUMMARY:Lunch-éclair avril 2019 - le nouveau ‘’handbook’’ de l’
 éclairage extérieur (RP-08-18)
DESCRIPTION:Le nouveau ‘’handbook’’ de l’éclairage extérieur (R
 P-08-18) - Richard Larivée\, ing.
CATEGORIES:Lunch-Éclair
LOCATION:Le Crystal / Centre de Congrès\, 5285\, boul. Henri-Bourassa West
 \, St-Laurent\, Québec\, H4R 1B7\, Canada
X-APPLE-STRUCTURED-LOCATION;VALUE=URI;X-ADDRESS=5285\, boul. Henri-Bourassa
  West\, St-Laurent\, Québec\, H4R 1B7\, Canada;X-APPLE-RADIUS=100;X-TITLE
 =Le Crystal / Centre de Congrès:geo:0,0
END:VEVENT
END:VCALENDAR