BEGIN:VCALENDAR
VERSION:2.0
PRODID:-//wp-events-plugin.com//7.2.3.1//EN
TZID:America/Toronto
X-WR-TIMEZONE:America/Toronto
BEGIN:VEVENT
UID:84@iesmontreal.ca
DTSTART;TZID=America/Toronto:20200218T113000
DTEND;TZID=America/Toronto:20200218T134500
DTSTAMP:20200115T221358Z
URL:https://iesmontreal.ca/events/lunch-eclair-fevrier-2020/
SUMMARY:Lunch-Éclair Février 2020
DESCRIPTION:
CATEGORIES:Lunch-Éclair
LOCATION:Le Crystal\, 5285 Henri Bourassa Ouest\, Montreal\, Qc\, H4R 1B7\,
  Canada
X-APPLE-STRUCTURED-LOCATION;VALUE=URI;X-ADDRESS=5285 Henri Bourassa Ouest\,
  Montreal\, Qc\, H4R 1B7\, Canada;X-APPLE-RADIUS=100;X-TITLE=Le Crystal:ge
 o:0,0
END:VEVENT
BEGIN:VTIMEZONE
TZID:America/Toronto
X-LIC-LOCATION:America/Toronto
BEGIN:STANDARD
DTSTART:20191103T010000
TZOFFSETFROM:-0400
TZOFFSETTO:-0500
TZNAME:EST
END:STANDARD
END:VTIMEZONE
END:VCALENDAR