BEGIN:VCALENDAR
VERSION:2.0
PRODID:-//wp-events-plugin.com//7.2.3.1//EN
TZID:America/Toronto
X-WR-TIMEZONE:America/Toronto
BEGIN:VEVENT
UID:73@iesmontreal.ca
DTSTART:20190319T110000Z
DTEND:20190319T133000Z
DTSTAMP:20190225T032807Z
URL:https://iesmontreal.ca/events/lunch-eclair-gradation-des-luminaires-a-
 led/
SUMMARY:IES Montréal - Lunch-éclair - gradation des luminaires à LED
DESCRIPTION:Gradation des luminaires à LED - Daniel Silverstein\n\nPrése
 ntation en anglais
CATEGORIES:Lunch-Éclair
LOCATION:Le Crystal / Centre de Congrès\, 5285\, boul. Henri-Bourassa West
 \, St-Laurent\, Québec\, H4R 1B7\, Canada
X-APPLE-STRUCTURED-LOCATION;VALUE=URI;X-ADDRESS=5285\, boul. Henri-Bourassa
  West\, St-Laurent\, Québec\, H4R 1B7\, Canada;X-APPLE-RADIUS=100;X-TITLE
 =Le Crystal / Centre de Congrès:geo:0,0
END:VEVENT
END:VCALENDAR