BEGIN:VCALENDAR
VERSION:2.0
PRODID:-//wp-events-plugin.com//7.2.3.1//EN
TZID:America/Toronto
X-WR-TIMEZONE:America/Toronto
BEGIN:VEVENT
UID:12@iesmontreal.ca
DTSTART:20151117T113000Z
DTEND:20151117T140000Z
DTSTAMP:20151008T054845Z
URL:https://iesmontreal.ca/events/lunch-eclair-novembre-2015/
SUMMARY:Lunch-Éclair novembre 2015
DESCRIPTION:Sujet:   Strategies in Light\n\nConférencier :  Howard Yaphe
 \, CEO\, Axis Lighting
CATEGORIES:Lunch-Éclair
LOCATION:Le Crystal / Centre de Congrès\, 5285 Henri Bourassa Ouest\, St-L
 aurent\, Québec\, H4R 1B7\, Canada
GEO:45.5207243;-73.7111059
X-APPLE-STRUCTURED-LOCATION;VALUE=URI;X-ADDRESS=5285 Henri Bourassa Ouest\,
  St-Laurent\, Québec\, H4R 1B7\, Canada;X-APPLE-RADIUS=100;X-TITLE=Le Cry
 stal / Centre de Congrès:geo:45.5207243,-73.7111059
END:VEVENT
END:VCALENDAR