BEGIN:VCALENDAR
VERSION:2.0
PRODID:-//wp-events-plugin.com//7.2.3.1//EN
TZID:America/Toronto
X-WR-TIMEZONE:America/Toronto
BEGIN:VEVENT
UID:69@iesmontreal.ca
DTSTART:20181120T113000Z
DTEND:20181120T130000Z
DTSTAMP:20181012T193333Z
URL:https://iesmontreal.ca/events/lunch-eclair-novembre-2018/
SUMMARY:Lunch Éclair - Novembre 2018
DESCRIPTION:Light\, Colour and Improved Colour Quality Possibilities with L
 ED\n\nPrésentation par Eric Haugaard 
CATEGORIES:Lunch-Éclair
LOCATION:Le Crystal - Salles de Réception\, 5985 boulevard Henri-Bourassa 
 Ouest\, Saint-Laurent\, Québec\, Canada
GEO:45.5155406;-73.71863510000003
X-APPLE-STRUCTURED-LOCATION;VALUE=URI;X-ADDRESS=5985 boulevard Henri-Bouras
 sa Ouest\, Saint-Laurent\, Québec\, Canada;X-APPLE-RADIUS=100;X-TITLE=Le 
 Crystal - Salles de Réception:geo:45.5155406,-73.71863510000003
END:VEVENT
END:VCALENDAR