BEGIN:VCALENDAR
VERSION:2.0
PRODID:-//wp-events-plugin.com//7.2.3.1//EN
TZID:America/Toronto
X-WR-TIMEZONE:America/Toronto
BEGIN:VEVENT
UID:68@iesmontreal.ca
DTSTART:20181016T113000Z
DTEND:20181016T130000Z
DTSTAMP:20181002T224749Z
URL:https://iesmontreal.ca/events/lunch-eclair-octobre-2018/
SUMMARY:Lunch Éclair - Octobre 2018
DESCRIPTION:Éclairage\, technologie et transformation: où allons-nous?\n\
 nPrésentation par Adam Lilien
CATEGORIES:Lunch-Éclair
LOCATION:Le Crystal - Salle de Réception\, 5285 Boulevard Henri-Bourassa O
 uest\, Saint-Laurent\, Quebec\, H4R 1B7\, Canada
GEO:45.5208006;-73.71102180000003
X-APPLE-STRUCTURED-LOCATION;VALUE=URI;X-ADDRESS=5285 Boulevard Henri-Bouras
 sa Ouest\, Saint-Laurent\, Quebec\, H4R 1B7\, Canada;X-APPLE-RADIUS=100;X-
 TITLE=Le Crystal - Salle de Réception:geo:45.5208006,-73.71102180000003
END:VEVENT
END:VCALENDAR