BEGIN:VCALENDAR
VERSION:2.0
PRODID:-//wp-events-plugin.com//7.2.3.1//EN
TZID:America/Toronto
X-WR-TIMEZONE:America/Toronto
BEGIN:VEVENT
UID:66@iesmontreal.ca
DTSTART:20180918T113000Z
DTEND:20180918T130000Z
DTSTAMP:20180831T190844Z
URL:https://iesmontreal.ca/events/lunch-eclair-septembre-2018-programme-do
 uble/
SUMMARY:Lunch Éclair - Septembre 2018 - Programme Double
DESCRIPTION:Programme double:\n\n1) The State of the IES Towards 2020 (Tim 
 Licitra\, Directeur Exécutif IES)\n\n2) Look What They’ve Done to My Me
 trics\, Ma – A Brand New Key to Understanding Light (Tom Butters\, LC\, 
 Directeur de l'Éducation)\n\nNotez que ces deux présentations seront ren
 dues en anglais\n\n&nbsp\;
CATEGORIES:Lunch-Éclair
END:VEVENT
END:VCALENDAR