BEGIN:VCALENDAR
VERSION:2.0
PRODID:-//wp-events-plugin.com//7.2.3.1//EN
TZID:America/Toronto
X-WR-TIMEZONE:America/Toronto
BEGIN:VEVENT
UID:72@iesmontreal.ca
DTSTART:20190425T100000Z
DTEND:20190425T160000Z
DTSTAMP:20190225T014825Z
URL:https://iesmontreal.ca/events/mcee-2/
SUMMARY:MCEE
DESCRIPTION:MCEE est un salon commercial se tenant aux deux ans à Montréa
 l. Pour toute personne œuvrant de près ou de loin en mécanique du bâti
 ment\, en électricité ou en éclairage\, il s’agit d’un rendez-vous 
 incontournable.
LOCATION:Place Bonaventure\, Montréal\, 800 De La Gauchetière St. W\, Mon
 tréal\, Québec\, H5A 1K6\, Canada
X-APPLE-STRUCTURED-LOCATION;VALUE=URI;X-ADDRESS=800 De La Gauchetière St. 
 W\, Montréal\, Québec\, H5A 1K6\, Canada;X-APPLE-RADIUS=100;X-TITLE=Plac
 e Bonaventure\, Montréal:geo:0,0
END:VEVENT
END:VCALENDAR