BEGIN:VCALENDAR
VERSION:2.0
PRODID:-//wp-events-plugin.com//7.2.3.1//EN
TZID:America/Toronto
X-WR-TIMEZONE:America/Toronto
BEGIN:VEVENT
UID:89@iesmontreal.ca
DTSTART;TZID=America/Toronto:20200512T120000
DTEND;TZID=America/Toronto:20200512T130000
DTSTAMP:20200429T140504Z
URL:https://iesmontreal.ca/events/webinar-gratuit/
SUMMARY:Webinar Gratuit - IES Montreal
DESCRIPTION:\nWebinar via ZOOM meeting (GRATUIT)\n\n\n\n12 MAI 2020 À COMP
 TER DE MIDI\n\n\n\n\nImpacts de l’éclairage naturel sur l’efficacité
  énergétique des bâtiments\nPour notre première édition en format Web
 inar\, M. Roland Charneux\, ing.\, M.Ing.\, PA LEED BD+C\, ASHRAE Fellow &
 amp\; HFDP a accepté d’être notre tout premier présentateur.\n[gravit
 yform id="42" title="true" description="true"]\n\n\n
END:VEVENT
BEGIN:VTIMEZONE
TZID:America/Toronto
X-LIC-LOCATION:America/Toronto
BEGIN:DAYLIGHT
DTSTART:20200308T030000
TZOFFSETFROM:-0500
TZOFFSETTO:-0400
TZNAME:EDT
END:DAYLIGHT
END:VTIMEZONE
END:VCALENDAR